BEGIN:VCALENDAR
VERSION:2.0
PRODID:-//RIGHTHERE//CALENDARIZE IT V3.2//EN
BEGIN:VTIMEZONE
TZID:Europe/Rome
BEGIN:STANDARD
DTSTART:20251026T010000
TZOFFSETFROM:+0200
TZOFFSETTO:+0100
TZNAME:CET
END:STANDARD
BEGIN:DAYLIGHT
DTSTART:20260329T010000
TZOFFSETFROM:+0100
TZOFFSETTO:+0200
TZNAME:CEST
END:DAYLIGHT
BEGIN:STANDARD
DTSTART:20261025T010000
TZOFFSETFROM:+0200
TZOFFSETTO:+0100
TZNAME:CET
END:STANDARD
END:VTIMEZONE
BEGIN:VEVENT
UID:8854-events@www.federmanager.it
DTSTART;TZID=Europe/Rome:20171117T180000
DTEND;TZID=Europe/Rome:20171117T000000
DTSTAMP;TZID=Europe/Rome:20171113T112552
SUMMARY:Premio Giovane Manager – Finale Nord Ovest
URL:https://www.federmanager.it/eventi/premio-giovane-manager-finale-nord-o
 vest/
ORGANIZER;CN=Federmanager:
LOCATION:Via Accademia delle Scienze\, 5\, 10123 Torino TO
END:VEVENT
END:VCALENDAR