BEGIN:VCALENDAR
VERSION:2.0
PRODID:-//RIGHTHERE//CALENDARIZE IT V3.2//EN
BEGIN:VTIMEZONE
TZID:Europe/Rome
BEGIN:STANDARD
DTSTART:20251026T010000
TZOFFSETFROM:+0200
TZOFFSETTO:+0100
TZNAME:CET
END:STANDARD
BEGIN:DAYLIGHT
DTSTART:20260329T010000
TZOFFSETFROM:+0100
TZOFFSETTO:+0200
TZNAME:CEST
END:DAYLIGHT
BEGIN:STANDARD
DTSTART:20261025T010000
TZOFFSETFROM:+0200
TZOFFSETTO:+0100
TZNAME:CET
END:STANDARD
END:VTIMEZONE
BEGIN:VEVENT
UID:8873-events@www.federmanager.it
DTSTART;TZID=Europe/Rome:20171113T100000
DTEND;TZID=Europe/Rome:20171113T160000
DTSTAMP;TZID=Europe/Rome:20171113T164928
SUMMARY:NORMATIVA SULLE CESSAZIONI DEL RAPPORTO DI LAVORO – CORSI DI FORM
 AZIONE PER GLI OPERATORI DELLE SEDI TERRITORIALI
URL:https://www.federmanager.it/eventi/normativa-sulle-cessazioni-del-rappo
 rto-lavoro-corsi-formazione-gli-operatori-delle-sedi-territoriali/
ORGANIZER;CN=Federmanager:
LOCATION:Via Larga\, 20122 Milano
END:VEVENT
END:VCALENDAR