BEGIN:VCALENDAR
VERSION:2.0
PRODID:-//RIGHTHERE//CALENDARIZE IT V3.2//EN
BEGIN:VTIMEZONE
TZID:Europe/Rome
BEGIN:STANDARD
DTSTART:20251026T010000
TZOFFSETFROM:+0200
TZOFFSETTO:+0100
TZNAME:CET
END:STANDARD
BEGIN:DAYLIGHT
DTSTART:20260329T010000
TZOFFSETFROM:+0100
TZOFFSETTO:+0200
TZNAME:CEST
END:DAYLIGHT
BEGIN:STANDARD
DTSTART:20261025T010000
TZOFFSETFROM:+0200
TZOFFSETTO:+0100
TZNAME:CET
END:STANDARD
END:VTIMEZONE
BEGIN:VEVENT
UID:9000-events@www.federmanager.it
DTSTART;TZID=Europe/Rome:20171214T140000
DTEND;TZID=Europe/Rome:20171214T180000
DTSTAMP;TZID=Europe/Rome:20171211T110426
SUMMARY:Premio Giovane Manager – Finale centro-sud
URL:https://www.federmanager.it/eventi/premio-giovane-manager-finale-centro
 -sud/
ORGANIZER;CN=Federmanager:
LOCATION:Piazza Montecitorio\, 1\, 00186\, Roma
END:VEVENT
END:VCALENDAR