BEGIN:VCALENDAR
VERSION:2.0
PRODID:-//RIGHTHERE//CALENDARIZE IT V3.2//EN
BEGIN:VTIMEZONE
TZID:Europe/Rome
BEGIN:STANDARD
DTSTART:20251026T010000
TZOFFSETFROM:+0200
TZOFFSETTO:+0100
TZNAME:CET
END:STANDARD
BEGIN:DAYLIGHT
DTSTART:20260329T010000
TZOFFSETFROM:+0100
TZOFFSETTO:+0200
TZNAME:CEST
END:DAYLIGHT
BEGIN:STANDARD
DTSTART:20261025T010000
TZOFFSETFROM:+0200
TZOFFSETTO:+0100
TZNAME:CET
END:STANDARD
END:VTIMEZONE
BEGIN:VEVENT
UID:9124-events@www.federmanager.it
DTSTART;TZID=Europe/Rome:20180130T170000
DTEND;TZID=Europe/Rome:20180130T000000
DTSTAMP;TZID=Europe/Rome:20180108T124229
SUMMARY:Industria 4.0 e capitale umano
URL:https://www.federmanager.it/eventi/industria-4-0-capitale-umano/
ORGANIZER;CN=Federmanager:
LOCATION:Str. Ponte Caprazucca\, 6\, 43121 Parma PR
END:VEVENT
END:VCALENDAR