BEGIN:VCALENDAR
VERSION:2.0
PRODID:-//RIGHTHERE//CALENDARIZE IT V3.2//EN
BEGIN:VTIMEZONE
TZID:Europe/Rome
BEGIN:STANDARD
DTSTART:20251026T010000
TZOFFSETFROM:+0200
TZOFFSETTO:+0100
TZNAME:CET
END:STANDARD
BEGIN:DAYLIGHT
DTSTART:20260329T010000
TZOFFSETFROM:+0100
TZOFFSETTO:+0200
TZNAME:CEST
END:DAYLIGHT
BEGIN:STANDARD
DTSTART:20261025T010000
TZOFFSETFROM:+0200
TZOFFSETTO:+0100
TZNAME:CET
END:STANDARD
END:VTIMEZONE
BEGIN:VEVENT
UID:9143-events@www.federmanager.it
DTSTART;TZID=Europe/Rome:20180118T133000
DTEND;TZID=Europe/Rome:20180118T000000
DTSTAMP;TZID=Europe/Rome:20180112T131105
SUMMARY:ALTERNANZA SCUOLA LAVORO – L’impegno dei manager per rafforzare
 il rapporto tra scuola e mondo del lavoro
URL:https://www.federmanager.it/eventi/alternanza-scuola-lavoro-limpegno-de
 i-manager-rafforzare-rapporto-scuola-mondo-del-lavoro/
ORGANIZER;CN=Federmanager:
LOCATION:Via Orazio\, 92 - 80122 NAPOLI
END:VEVENT
END:VCALENDAR