BEGIN:VCALENDAR
VERSION:2.0
PRODID:-//RIGHTHERE//CALENDARIZE IT V3.2//EN
BEGIN:VTIMEZONE
TZID:Europe/Rome
BEGIN:STANDARD
DTSTART:20251026T010000
TZOFFSETFROM:+0200
TZOFFSETTO:+0100
TZNAME:CET
END:STANDARD
BEGIN:DAYLIGHT
DTSTART:20260329T010000
TZOFFSETFROM:+0100
TZOFFSETTO:+0200
TZNAME:CEST
END:DAYLIGHT
BEGIN:STANDARD
DTSTART:20261025T010000
TZOFFSETFROM:+0200
TZOFFSETTO:+0100
TZNAME:CET
END:STANDARD
END:VTIMEZONE
BEGIN:VEVENT
UID:9207-events@www.federmanager.it
DTSTART;TZID=Europe/Rome:20180125T133000
DTEND;TZID=Europe/Rome:20180125T170000
DTSTAMP;TZID=Europe/Rome:20180122T133420
SUMMARY:L’impegno dei manager per rafforzare il rapporto tra scuola e mon
 do del lavoro
URL:https://www.federmanager.it/eventi/limpegno-dei-manager-rafforzare-rapp
 orto-scuola-mondo-del-lavoro/
LOCATION:Piazza XX Settembre\, 2\, 40121 Bologna BO
END:VEVENT
END:VCALENDAR