BEGIN:VCALENDAR
VERSION:2.0
PRODID:-//RIGHTHERE//CALENDARIZE IT V3.2//EN
BEGIN:VTIMEZONE
TZID:Europe/Rome
BEGIN:STANDARD
DTSTART:20251026T010000
TZOFFSETFROM:+0200
TZOFFSETTO:+0100
TZNAME:CET
END:STANDARD
BEGIN:DAYLIGHT
DTSTART:20260329T010000
TZOFFSETFROM:+0100
TZOFFSETTO:+0200
TZNAME:CEST
END:DAYLIGHT
BEGIN:STANDARD
DTSTART:20261025T010000
TZOFFSETFROM:+0200
TZOFFSETTO:+0100
TZNAME:CET
END:STANDARD
END:VTIMEZONE
BEGIN:VEVENT
UID:9220-events@www.federmanager.it
DTSTART;VALUE=DATE:20180129
DTEND;VALUE=DATE:20180131
DTSTAMP;TZID=Europe/Rome:20180123T163650
SUMMARY:Progetto Start Up Ecosistema Together
URL:https://www.federmanager.it/eventi/progetto-start-ecosistema-togheter/
ORGANIZER;CN=Federmanager:
LOCATION:Via Ravenna 14 Roma
END:VEVENT
END:VCALENDAR