BEGIN:VCALENDAR
VERSION:2.0
PRODID:-//RIGHTHERE//CALENDARIZE IT V3.2//EN
BEGIN:VTIMEZONE
TZID:Europe/Rome
BEGIN:STANDARD
DTSTART:20251026T010000
TZOFFSETFROM:+0200
TZOFFSETTO:+0100
TZNAME:CET
END:STANDARD
BEGIN:DAYLIGHT
DTSTART:20260329T010000
TZOFFSETFROM:+0100
TZOFFSETTO:+0200
TZNAME:CEST
END:DAYLIGHT
BEGIN:STANDARD
DTSTART:20261025T010000
TZOFFSETFROM:+0200
TZOFFSETTO:+0100
TZNAME:CET
END:STANDARD
END:VTIMEZONE
BEGIN:VEVENT
UID:9342-events@www.federmanager.it
DTSTART;TZID=Europe/Rome:20180215T093000
DTEND;TZID=Europe/Rome:20180216T173000
DTSTAMP;TZID=Europe/Rome:20180213T134121
SUMMARY:Imprese & Startup scriviamo il nostro futuro …together!
URL:https://www.federmanager.it/eventi/imprese-startup-scriviamo-nostro-fut
 uro-together/
ORGANIZER;CN=Federmanager:
LOCATION:Via Larga\, 20122 Milano
END:VEVENT
END:VCALENDAR