BEGIN:VCALENDAR
VERSION:2.0
PRODID:-//RIGHTHERE//CALENDARIZE IT V3.2//EN
BEGIN:VTIMEZONE
TZID:Europe/Rome
BEGIN:STANDARD
DTSTART:20251026T010000
TZOFFSETFROM:+0200
TZOFFSETTO:+0100
TZNAME:CET
END:STANDARD
BEGIN:DAYLIGHT
DTSTART:20260329T010000
TZOFFSETFROM:+0100
TZOFFSETTO:+0200
TZNAME:CEST
END:DAYLIGHT
BEGIN:STANDARD
DTSTART:20261025T010000
TZOFFSETFROM:+0200
TZOFFSETTO:+0100
TZNAME:CET
END:STANDARD
END:VTIMEZONE
BEGIN:VEVENT
UID:9498-events@www.federmanager.it
DTSTART;TZID=Europe/Rome:20180327T143000
DTEND;TZID=Europe/Rome:20180327T000000
DTSTAMP;TZID=Europe/Rome:20180307T180021
SUMMARY:SILVER EXPERTISE Rinnovare le competenze per gestire il futuro
URL:https://www.federmanager.it/eventi/silver-expertise-rinnovare-le-compet
 enze-gestire-futuro/
ORGANIZER;CN=Vises:
LOCATION:Viale Pola\, 12\, 00198 Roma RM
END:VEVENT
END:VCALENDAR