BEGIN:VCALENDAR
VERSION:2.0
PRODID:-//RIGHTHERE//CALENDARIZE IT V3.2//EN
BEGIN:VTIMEZONE
TZID:Europe/Rome
BEGIN:STANDARD
DTSTART:20251026T010000
TZOFFSETFROM:+0200
TZOFFSETTO:+0100
TZNAME:CET
END:STANDARD
BEGIN:DAYLIGHT
DTSTART:20260329T010000
TZOFFSETFROM:+0100
TZOFFSETTO:+0200
TZNAME:CEST
END:DAYLIGHT
BEGIN:STANDARD
DTSTART:20261025T010000
TZOFFSETFROM:+0200
TZOFFSETTO:+0100
TZNAME:CET
END:STANDARD
END:VTIMEZONE
BEGIN:VEVENT
UID:9813-events@www.federmanager.it
DTSTART;TZID=Europe/Rome:20180420T153000
DTEND;TZID=Europe/Rome:20180420T000000
DTSTAMP;TZID=Europe/Rome:20180417T111111
SUMMARY:Welfare Aziendale: un premio al benessere organizzativo
URL:https://www.federmanager.it/eventi/welfare-aziendale-un-premio-al-benes
 sere-organizzativo/
ORGANIZER;CN=Federmanager:
LOCATION:Piazza Giacomo Matteotti\, 3\, 75100 Matera MT
END:VEVENT
END:VCALENDAR