BEGIN:VCALENDAR
VERSION:2.0
PRODID:-//RIGHTHERE//CALENDARIZE IT V3.2//EN
BEGIN:VTIMEZONE
TZID:Europe/Rome
BEGIN:STANDARD
DTSTART:20251026T010000
TZOFFSETFROM:+0200
TZOFFSETTO:+0100
TZNAME:CET
END:STANDARD
BEGIN:DAYLIGHT
DTSTART:20260329T010000
TZOFFSETFROM:+0100
TZOFFSETTO:+0200
TZNAME:CEST
END:DAYLIGHT
BEGIN:STANDARD
DTSTART:20261025T010000
TZOFFSETFROM:+0200
TZOFFSETTO:+0100
TZNAME:CET
END:STANDARD
END:VTIMEZONE
BEGIN:VEVENT
UID:9843-events@www.federmanager.it
DTSTART;TZID=Europe/Rome:20180510T153000
DTEND;TZID=Europe/Rome:20180510T183000
DTSTAMP;TZID=Europe/Rome:20180420T113314
SUMMARY:Gli strumenti di flessibilità in uscita: l’isopensione\, l’APE
 Volontaria\, l’APE Aziendale e la RITA
URL:https://www.federmanager.it/eventi/gli-strumenti-flessibilita-uscita-li
 sopensione-lape-volontaria-lape-aziendale-la-rita/
ORGANIZER;CN=Federmanager:
LOCATION:Via Vittorio Veneto\, 89\, 00187 Roma RM
END:VEVENT
END:VCALENDAR