BEGIN:VCALENDAR
VERSION:2.0
PRODID:-//RIGHTHERE//CALENDARIZE IT V3.2//EN
BEGIN:VTIMEZONE
TZID:Europe/Rome
BEGIN:STANDARD
DTSTART:20251026T010000
TZOFFSETFROM:+0200
TZOFFSETTO:+0100
TZNAME:CET
END:STANDARD
BEGIN:DAYLIGHT
DTSTART:20260329T010000
TZOFFSETFROM:+0100
TZOFFSETTO:+0200
TZNAME:CEST
END:DAYLIGHT
BEGIN:STANDARD
DTSTART:20261025T010000
TZOFFSETFROM:+0200
TZOFFSETTO:+0100
TZNAME:CET
END:STANDARD
END:VTIMEZONE
BEGIN:VEVENT
UID:9973-events@www.federmanager.it
DTSTART;TZID=Europe/Rome:20180516T153000
DTEND;TZID=Europe/Rome:20180516T000000
DTSTAMP;TZID=Europe/Rome:20180510T103812
SUMMARY:Le Giornate di Galileo
URL:https://www.federmanager.it/eventi/le-giornate-galileo/
ORGANIZER;CN=Federmanager:
LOCATION:Via VIII Febbraio\, 2\, 35122 Padova PD
END:VEVENT
END:VCALENDAR